BEGIN:VCALENDAR
VERSION:2.0
PRODID:-//wp-events-plugin.com//7.2.3.1//EN
TZID:Europe/Vienna
X-WR-TIMEZONE:Europe/Vienna
BEGIN:VEVENT
UID:3@wien-europa1.kiwanis.at
DTSTART;TZID=Europe/Vienna:20260415T190000
DTEND;TZID=Europe/Vienna:20260415T210000
DTSTAMP:20260413T145338Z
URL:https://wien-europa1.kiwanis.at/events/menschenhandel-und-sexuelle-aus
 beutung/
SUMMARY:MENSCHENHANDEL UND SEXUELLE AUSBEUTUNG
DESCRIPTION:\n\nVortragende ist Frau Mag. Renate Barany\, Gründungs- und V
 orstandsmitglied des Vereins Hope for the Future.
CATEGORIES:Vortrag
LOCATION:"Zum Leupold"\, Schottengasse 7\, Wien\, 1010\, Österreich
X-APPLE-STRUCTURED-LOCATION;VALUE=URI;X-ADDRESS=Schottengasse 7\, Wien\, 10
 10\, Österreich;X-APPLE-RADIUS=100;X-TITLE=\"Zum Leupold\":geo:0,0
END:VEVENT
BEGIN:VTIMEZONE
TZID:Europe/Vienna
X-LIC-LOCATION:Europe/Vienna
BEGIN:DAYLIGHT
DTSTART:20260329T030000
TZOFFSETFROM:+0100
TZOFFSETTO:+0200
TZNAME:CEST
END:DAYLIGHT
END:VTIMEZONE
END:VCALENDAR